BEGIN:VCALENDAR
VERSION:2.0
PRODID:-//Colorado Frontiers - ECPv6.8.0//NONSGML v1.0//EN
CALSCALE:GREGORIAN
METHOD:PUBLISH
X-WR-CALNAME:Colorado Frontiers
X-ORIGINAL-URL:https://coloradofrontiers.com
X-WR-CALDESC:Events for Colorado Frontiers
REFRESH-INTERVAL;VALUE=DURATION:PT1H
X-Robots-Tag:noindex
X-PUBLISHED-TTL:PT1H
BEGIN:VTIMEZONE
TZID:UTC
BEGIN:STANDARD
TZOFFSETFROM:+0000
TZOFFSETTO:+0000
TZNAME:UTC
DTSTART:20240101T000000
END:STANDARD
END:VTIMEZONE
BEGIN:VEVENT
DTSTART;TZID=UTC:20240523T080000
DTEND;TZID=UTC:20240527T170000
DTSTAMP:20260422T085342
CREATED:20240321T154422Z
LAST-MODIFIED:20240321T154450Z
UID:790-1716451200-1716829200@coloradofrontiers.com
SUMMARY:Buena Vista CKS Paddlefest
DESCRIPTION:Kayaking\, River surfing and paddle sports competitions!
URL:https://coloradofrontiers.com/event/cks-paddlefest/
LOCATION:Buena Vista\, Colorado\, Buena Vista\, CO\, 81211\, United States
CATEGORIES:Kayaking,Paddle Boarding
END:VEVENT
END:VCALENDAR