BEGIN:VCALENDAR
VERSION:2.0
PRODID:-//Colorado Frontiers - ECPv6.8.0//NONSGML v1.0//EN
CALSCALE:GREGORIAN
METHOD:PUBLISH
X-WR-CALNAME:Colorado Frontiers
X-ORIGINAL-URL:https://coloradofrontiers.com
X-WR-CALDESC:Events for Colorado Frontiers
REFRESH-INTERVAL;VALUE=DURATION:PT1H
X-Robots-Tag:noindex
X-PUBLISHED-TTL:PT1H
BEGIN:VTIMEZONE
TZID:UTC
BEGIN:STANDARD
TZOFFSETFROM:+0000
TZOFFSETTO:+0000
TZNAME:UTC
DTSTART:20240101T000000
END:STANDARD
END:VTIMEZONE
BEGIN:VEVENT
DTSTART;TZID=UTC:20240524T080000
DTEND;TZID=UTC:20240527T170000
DTSTAMP:20260421T231905
CREATED:20240321T152643Z
LAST-MODIFIED:20240321T152643Z
UID:784-1716537600-1716829200@coloradofrontiers.com
SUMMARY:Boulder Creek Festival
DESCRIPTION:Music\, Shopping & Food!
URL:https://coloradofrontiers.com/event/boulder-creek-festival/
LOCATION:Boulder\, Colorado\, CO\, United States
CATEGORIES:Food & Beverage,Music,Shopping
END:VEVENT
END:VCALENDAR