BEGIN:VCALENDAR
VERSION:2.0
PRODID:-//Colorado Frontiers - ECPv6.8.0//NONSGML v1.0//EN
CALSCALE:GREGORIAN
METHOD:PUBLISH
X-WR-CALNAME:Colorado Frontiers
X-ORIGINAL-URL:https://coloradofrontiers.com
X-WR-CALDESC:Events for Colorado Frontiers
REFRESH-INTERVAL;VALUE=DURATION:PT1H
X-Robots-Tag:noindex
X-PUBLISHED-TTL:PT1H
BEGIN:VTIMEZONE
TZID:UTC
BEGIN:STANDARD
TZOFFSETFROM:+0000
TZOFFSETTO:+0000
TZNAME:UTC
DTSTART:20240101T000000
END:STANDARD
END:VTIMEZONE
BEGIN:VEVENT
DTSTART;TZID=UTC:20240413T080000
DTEND;TZID=UTC:20240414T170000
DTSTAMP:20260422T184304
CREATED:20240315T213721Z
LAST-MODIFIED:20240315T213721Z
UID:681-1712995200-1713114000@coloradofrontiers.com
SUMMARY:Colorado Tartan Day Festival
DESCRIPTION:A celebration of Scottish culture with activities like parades\, face painting\, combat demonstrations\, and live music for the whole family to enjoy
URL:https://coloradofrontiers.com/event/colorado-tartan-day-festival/
LOCATION:Boulder County Fairgrounds\, 9595 Nelson Road\, Longmont\, CO\, 80501\, United States
CATEGORIES:Culture,History,Music
END:VEVENT
BEGIN:VEVENT
DTSTART;TZID=UTC:20240419T080000
DTEND;TZID=UTC:20240421T170000
DTSTAMP:20260422T184304
CREATED:20240321T150318Z
LAST-MODIFIED:20240321T150318Z
UID:781-1713513600-1713718800@coloradofrontiers.com
SUMMARY:Durango Bluegrass Meltdown
DESCRIPTION:Every April\, the Durango Bluegrass Meltdown breaks up the long Southwest Colorado winter with incredible bluegrass music\, a barn dance\, and other celebrations for visitors. You won’t want to miss this annual event!
URL:https://coloradofrontiers.com/event/durango-bluegrass-meltdown/
LOCATION:Durango\, Colorado\, United States
CATEGORIES:Food,Food & Beverage,Music
END:VEVENT
END:VCALENDAR